BEGIN:VCALENDAR
VERSION:2.0
PRODID:-//ISEND - ECPv6.15.20//NONSGML v1.0//EN
CALSCALE:GREGORIAN
METHOD:PUBLISH
X-WR-CALNAME:ISEND
X-ORIGINAL-URL:https://isend.edu.do
X-WR-CALDESC:Eventos para ISEND
REFRESH-INTERVAL;VALUE=DURATION:PT1H
X-Robots-Tag:noindex
X-PUBLISHED-TTL:PT1H
BEGIN:VTIMEZONE
TZID:UTC
BEGIN:STANDARD
TZOFFSETFROM:+0000
TZOFFSETTO:+0000
TZNAME:UTC
DTSTART:20180101T000000
END:STANDARD
END:VTIMEZONE
BEGIN:VEVENT
DTSTART;TZID=UTC:20200107T070000
DTEND;TZID=UTC:20200107T233000
DTSTAMP:20260423T121636
CREATED:20180816T160220Z
LAST-MODIFIED:20200827T213644Z
UID:5993-1578380400-1578439800@isend.edu.do
SUMMARY:Evento de reunión: Tour de golf de ex alumnos de Kingster
DESCRIPTION:Muy lejos\, detrás de la palabra montañas\, lejos de los países Vokalia y Consonantia\, viven los textos ciegos. Separados\, viven en Bookmarksgrove justo en la costa de Semantics\, un gran océano de idiomas. Un pequeño río llamado Duden fluye por su lugar y lo abastece de la regelialia necesaria. Es un país paradisíaco\, en el que partes tostadas de frases vuelan a tu boca. Incluso el todopoderoso Pointing no tiene control sobre los textos ciegos\, es una vida casi poco ortográfica Un día\, sin embargo\, una pequeña línea de texto ciego con el nombre
URL:https://isend.edu.do/event/evento-de-reunion-tour-de-golf-de-ex-alumnos-de-kingster/
LOCATION:Kingster Grand Hall\, 1810 Campus Way NE Bothell\, Washington\, United States
ATTACH;FMTTYPE=image/jpeg:https://isend.edu.do/wp-content/uploads/2018/08/fancycrave-270977-unsplash.jpg
ORGANIZER;CN="Kingster's Social Club":MAILTO:clubs@kingsteruni.edu
END:VEVENT
BEGIN:VEVENT
DTSTART;TZID=UTC:20200101T100000
DTEND;TZID=UTC:20200101T163000
DTSTAMP:20260423T121636
CREATED:20180816T155715Z
LAST-MODIFIED:20200827T213755Z
UID:5989-1577872800-1577896200@isend.edu.do
SUMMARY:Viaje en globo aerostático para ex alumnos de Kingster en Turquía
DESCRIPTION:Muy lejos\, detrás de la palabra montañas\, lejos de los países Vokalia y Consonantia\, viven los textos ciegos. Separados\, viven en Bookmarksgrove justo en la costa de Semantics\, un gran océano de idiomas. Un pequeño río llamado Duden fluye por su lugar y lo abastece de la regelialia necesaria. Es un país paradisíaco\, en el que partes tostadas de frases vuelan a tu boca. Incluso el todopoderoso Pointing no tiene control sobre los textos ciegos\, es una vida casi poco ortográfica Un día\, sin embargo\, una pequeña línea de texto ciego con el nombre
URL:https://isend.edu.do/event/viaje-en-globo-aerostatico-para-ex-alumnos-de-kingster-en-turquia/
LOCATION:Kingster Grand Hall\, 1810 Campus Way NE Bothell\, Washington\, United States
ATTACH;FMTTYPE=image/jpeg:https://isend.edu.do/wp-content/uploads/2018/08/ellehem-693-unsplash.jpg
ORGANIZER;CN="Kingster's Social Club":MAILTO:clubs@kingsteruni.edu
END:VEVENT
BEGIN:VEVENT
DTSTART;TZID=UTC:20191217T130000
DTEND;TZID=UTC:20191217T170000
DTSTAMP:20260423T121636
CREATED:20180816T155533Z
LAST-MODIFIED:20200827T214015Z
UID:5986-1576587600-1576602000@isend.edu.do
SUMMARY:Conferencia de Fintech & Key Investment
DESCRIPTION:Muy lejos\, detrás de la palabra montañas\, lejos de los países Vokalia y Consonantia\, viven los textos ciegos. Separados\, viven en Bookmarksgrove justo en la costa de Semantics\, un gran océano de idiomas. Un pequeño río llamado Duden fluye por su lugar y lo abastece de la regelialia necesaria. Es un país paradisíaco\, en el que partes tostadas de frases vuelan a tu boca. Incluso el todopoderoso Pointing no tiene control sobre los textos ciegos\, es una vida casi poco ortográfica Un día\, sin embargo\, una pequeña línea de texto ciego con el nombre
URL:https://isend.edu.do/event/conferencia-de-fintech-key-investment/
LOCATION:Kingster Grand Hall\, 1810 Campus Way NE Bothell\, Washington\, United States
ATTACH;FMTTYPE=image/jpeg:https://isend.edu.do/wp-content/uploads/2018/08/tyler-callahan-662157-unsplash.jpg
ORGANIZER;CN="Kingster's Social Club":MAILTO:clubs@kingsteruni.edu
END:VEVENT
BEGIN:VEVENT
DTSTART;TZID=UTC:20191104T130000
DTEND;TZID=UTC:20191104T170000
DTSTAMP:20260423T121636
CREATED:20180816T155247Z
LAST-MODIFIED:20200827T213922Z
UID:5984-1572872400-1572886800@isend.edu.do
SUMMARY:Seminario web de información sobre gestión deportiva
DESCRIPTION:Muy lejos\, detrás de la palabra montañas\, lejos de los países Vokalia y Consonantia\, viven los textos ciegos. Separados\, viven en Bookmarksgrove justo en la costa de Semantics\, un gran océano de idiomas. Un pequeño río llamado Duden fluye por su lugar y lo abastece de la regelialia necesaria. Es un país paradisíaco\, en el que partes tostadas de frases vuelan a tu boca. Incluso el todopoderoso Pointing no tiene control sobre los textos ciegos\, es una vida casi poco ortográfica Un día\, sin embargo\, una pequeña línea de texto ciego con el nombre.
URL:https://isend.edu.do/event/sport-management-information-webinar/
LOCATION:Kingster Grand Hall\, 1810 Campus Way NE Bothell\, Washington\, United States
ATTACH;FMTTYPE=image/jpeg:https://isend.edu.do/wp-content/uploads/2018/08/page-title-athletics.jpg
ORGANIZER;CN="Kingster's Social Club":MAILTO:clubs@kingsteruni.edu
END:VEVENT
BEGIN:VEVENT
DTSTART;TZID=UTC:20190911T080000
DTEND;TZID=UTC:20190911T123000
DTSTAMP:20260423T121636
CREATED:20180816T155159Z
LAST-MODIFIED:20200827T213930Z
UID:5982-1568188800-1568205000@isend.edu.do
SUMMARY:Planificación y facilitación de reuniones eficaces
DESCRIPTION:Muy lejos\, detrás de la palabra montañas\, lejos de los países Vokalia y Consonantia\, viven los textos ciegos. Separados\, viven en Bookmarksgrove justo en la costa de Semantics\, un gran océano de idiomas. Un pequeño río llamado Duden fluye por su lugar y lo abastece de la regelialia necesaria. Es un país paradisíaco\, en el que partes tostadas de frases vuelan a tu boca. Incluso el todopoderoso Pointing no tiene control sobre los textos ciegos\, es una vida casi poco ortográfica Un día\, sin embargo\, una pequeña línea de texto ciego con el nombre
URL:https://isend.edu.do/event/planificacion-y-facilitacion-de-reuniones-eficaces/
LOCATION:Kingster Grand Hall\, 1810 Campus Way NE Bothell\, Washington\, United States
ATTACH;FMTTYPE=image/jpeg:https://isend.edu.do/wp-content/uploads/2018/08/shutterstock_59887279.jpg
ORGANIZER;CN="Kingster's Social Club":MAILTO:clubs@kingsteruni.edu
END:VEVENT
BEGIN:VEVENT
DTSTART;TZID=UTC:20190902T080000
DTEND;TZID=UTC:20190902T170000
DTSTAMP:20260423T121636
CREATED:20180816T154427Z
LAST-MODIFIED:20200827T214003Z
UID:5976-1567411200-1567443600@isend.edu.do
SUMMARY:Festival de Otoño de Estudios de Asia Pacífico
DESCRIPTION:Muy lejos\, detrás de la palabra montañas\, lejos de los países Vokalia y Consonantia\, viven los textos ciegos. Separados\, viven en Bookmarksgrove justo en la costa de Semantics\, un gran océano de idiomas. Un pequeño río llamado Duden fluye por su lugar y lo abastece de la regelialia necesaria. Es un país paradisíaco\, en el que partes tostadas de frases vuelan a tu boca. Incluso el todopoderoso Pointing no tiene control sobre los textos ciegos\, es una vida casi poco ortográfica Un día\, sin embargo\, una pequeña línea de texto ciego con el nombre
URL:https://isend.edu.do/event/festival-de-otono-de-estudios-de-asia-pacifico/
LOCATION:Kingster Grand Hall\, 1810 Campus Way NE Bothell\, Washington\, United States
ATTACH;FMTTYPE=image/jpeg:https://isend.edu.do/wp-content/uploads/2016/06/shutterstock_218235004.jpg
ORGANIZER;CN="Kingster's Social Club":MAILTO:clubs@kingsteruni.edu
END:VEVENT
END:VCALENDAR